BEGIN:VCALENDAR
VERSION:2.0
PRODID:-//Comic-Con Museum - ECPv6.15.14//NONSGML v1.0//EN
CALSCALE:GREGORIAN
METHOD:PUBLISH
X-WR-CALNAME:Comic-Con Museum
X-ORIGINAL-URL:https://www.comic-con.org/museum
X-WR-CALDESC:Events for Comic-Con Museum
REFRESH-INTERVAL;VALUE=DURATION:PT1H
X-Robots-Tag:noindex
X-PUBLISHED-TTL:PT1H
BEGIN:VTIMEZONE
TZID:UTC
BEGIN:STANDARD
TZOFFSETFROM:+0000
TZOFFSETTO:+0000
TZNAME:UTC
DTSTART:20230101T000000
END:STANDARD
END:VTIMEZONE
BEGIN:VEVENT
DTSTART;TZID=UTC:20241113T000000
DTEND;TZID=UTC:20241113T235959
DTSTAMP:20260420T081342
CREATED:20241011T200553Z
LAST-MODIFIED:20250714T152847Z
UID:1805-1731456000-1731542399@www.comic-con.org
SUMMARY:Museum Closed
DESCRIPTION:Cover Story\n\n\n\n\nMuseum is closed on Wednesdays.
URL:https://www.comic-con.org/museum/event/museum-closed-2/
END:VEVENT
BEGIN:VEVENT
DTSTART;TZID=UTC:20251205T150000
DTEND;TZID=UTC:20251205T200000
DTSTAMP:20260420T081342
CREATED:20251120T194630Z
LAST-MODIFIED:20251205T182223Z
UID:2424-1764946800-1764964800@www.comic-con.org
SUMMARY:December Nights 2025\, Friday December 5
DESCRIPTION:Photo Credit: SDCC S. Zimmerman © 2024 SDCC\n\n\n\n\n\nDecember Nights 2025\n\n\n\nComic-Con Museum December Nights \n\n\n\nFriday\, December 5\, 2025 @ 3:00pm–8:00pm; Last Paint & Take Seating at 7:40pm \n\n\n\n \n\n\n\nJoin us for a free holiday-themed popular arts craft! Spin our free prize wheel! Visit our store for all your fandom-inspired holiday gifts. \n\n\n\n\nDecember Nights 2025 at Comic-Con Museum: Free!\n\n\n\n\n\n\n\n\n\n\nJoin us to paint and take a free miniature figure! Spin our prize wheel for a chance to win! Visit our retail store for exclusive holiday gifts for the fans in your life. Activities available on a first-come\, first-served basis\, while supplies last. Museum exhibits are closed for December Nights.  \n\n\n\nWhat is Paint & Take?  \n\n\n\nPaint & Take is a fun\, fandom-inspired art activity where artists get to paint their own miniature figure. This activity takes about 20-30 minutes to complete\, and is best suited for fans aged eight and older\, though fans of all ages are always welcome. Due to crowds\, guests should expect to wait in line to complete this activity. \n\n\n\n\n\nPhoto Credit: K. Mitchell © 2024 SDCC\n\n\n\n\n\nPhoto Credit: K. Mitchell © 2024 SDCC\n\n\n\n\n\nPhoto Credit: K. Mitchell © 2024 SDCC
URL:https://www.comic-con.org/museum/event/december-nights-2025-friday-december-5/
END:VEVENT
BEGIN:VEVENT
DTSTART;TZID=UTC:20251206T140000
DTEND;TZID=UTC:20251206T190000
DTSTAMP:20260420T081342
CREATED:20251120T195124Z
LAST-MODIFIED:20251205T182312Z
UID:2432-1765029600-1765047600@www.comic-con.org
SUMMARY:December Nights 2025\, Saturday December 6
DESCRIPTION:Photo Credit: SDCC S. Zimmerman © 2024 SDCC\n\n\n\n\n\nDecember Nights 2025\n\n\n\nComic-Con Museum December Nights \n\n\n\nSaturday\, December 6\, 2025 @ 2:00pm–7:00pm; Last Paint & Take Seating at 6:40pm \n\n\n\n \n\n\n\nJoin us for a free holiday-themed popular arts craft! Spin our free prize wheel! Visit our store for all your fandom-inspired holiday gifts. \n\n\n\n\nDecember Nights 2025 at Comic-Con Museum: Free!\n\n\n\n\n\n\n\n\n\n\nJoin us to paint and take a free miniature figure! Spin our prize wheel for a chance to win! Visit our retail store for exclusive holiday gifts for the fans in your life. Activities available on a first-come\, first-served basis\, while supplies last. Museum exhibits are closed for December Nights.  \n\n\n\nWhat is Paint & Take?  \n\n\n\nPaint & Take is a fun\, fandom-inspired art activity where artists get to paint their own miniature figure. This activity takes about 20-30 minutes to complete\, and is best suited for fans aged eight and older\, though fans of all ages are always welcome. Due to crowds\, guests should expect to wait in line to complete this activity. \n\n\n\n\n\nPhoto Credit: K. Mitchell © 2024 SDCC\n\n\n\n\n\nPhoto Credit: K. Mitchell © 2024 SDCC\n\n\n\n\n\nPhoto Credit: K. Mitchell © 2024 SDCC
URL:https://www.comic-con.org/museum/event/december-nights-2025-saturday-december-6/
END:VEVENT
BEGIN:VEVENT
DTSTART;TZID=UTC:20241113T000000
DTEND;TZID=UTC:20241113T235959
DTSTAMP:20260420T081342
CREATED:20241011T200553Z
LAST-MODIFIED:20250714T152847Z
UID:1805-1731456000-1731542399@www.comic-con.org
SUMMARY:Museum Closed
DESCRIPTION:Cover Story\n\n\n\n\nMuseum is closed on Wednesdays.
URL:https://www.comic-con.org/museum/event/museum-closed-2/
END:VEVENT
BEGIN:VEVENT
DTSTART;TZID=UTC:20241113T000000
DTEND;TZID=UTC:20241113T235959
DTSTAMP:20260420T081342
CREATED:20241011T200553Z
LAST-MODIFIED:20250714T152847Z
UID:1805-1731456000-1731542399@www.comic-con.org
SUMMARY:Museum Closed
DESCRIPTION:Cover Story\n\n\n\n\nMuseum is closed on Wednesdays.
URL:https://www.comic-con.org/museum/event/museum-closed-2/
END:VEVENT
BEGIN:VEVENT
DTSTART;TZID=UTC:20241113T000000
DTEND;TZID=UTC:20241113T235959
DTSTAMP:20260420T081342
CREATED:20241011T200553Z
LAST-MODIFIED:20250714T152847Z
UID:1805-1731456000-1731542399@www.comic-con.org
SUMMARY:Museum Closed
DESCRIPTION:Cover Story\n\n\n\n\nMuseum is closed on Wednesdays.
URL:https://www.comic-con.org/museum/event/museum-closed-2/
END:VEVENT
BEGIN:VEVENT
DTSTART;TZID=UTC:20251224T000000
DTEND;TZID=UTC:20251225T235959
DTSTAMP:20260420T081342
CREATED:20250903T171207Z
LAST-MODIFIED:20250903T171210Z
UID:2299-1766534400-1766707199@www.comic-con.org
SUMMARY:Museum Closed December 24-25
DESCRIPTION:Cover Story
URL:https://www.comic-con.org/museum/event/museum-closed-december-24-25/
END:VEVENT
BEGIN:VEVENT
DTSTART;TZID=UTC:20241113T000000
DTEND;TZID=UTC:20241113T235959
DTSTAMP:20260420T081342
CREATED:20241011T200553Z
LAST-MODIFIED:20250714T152847Z
UID:1805-1731456000-1731542399@www.comic-con.org
SUMMARY:Museum Closed
DESCRIPTION:Cover Story\n\n\n\n\nMuseum is closed on Wednesdays.
URL:https://www.comic-con.org/museum/event/museum-closed-2/
END:VEVENT
BEGIN:VEVENT
DTSTART;TZID=UTC:20251231T000000
DTEND;TZID=UTC:20251231T235959
DTSTAMP:20260420T081342
CREATED:20250903T171332Z
LAST-MODIFIED:20250903T171334Z
UID:2301-1767139200-1767225599@www.comic-con.org
SUMMARY:Museum Closed New Years Eve
DESCRIPTION:Cover Story
URL:https://www.comic-con.org/museum/event/museum-closed-new-years-eve-2/
END:VEVENT
END:VCALENDAR