BEGIN:VCALENDAR
VERSION:2.0
PRODID:-//Comic-Con Museum - ECPv6.15.14//NONSGML v1.0//EN
CALSCALE:GREGORIAN
METHOD:PUBLISH
X-ORIGINAL-URL:https://www.comic-con.org/museum
X-WR-CALDESC:Events for Comic-Con Museum
REFRESH-INTERVAL;VALUE=DURATION:PT1H
X-Robots-Tag:noindex
X-PUBLISHED-TTL:PT1H
BEGIN:VTIMEZONE
TZID:UTC
BEGIN:STANDARD
TZOFFSETFROM:+0000
TZOFFSETTO:+0000
TZNAME:UTC
DTSTART:20230101T000000
END:STANDARD
END:VTIMEZONE
BEGIN:VEVENT
DTSTART;TZID=UTC:20241113T000000
DTEND;TZID=UTC:20241113T235959
DTSTAMP:20260420T204559
CREATED:20241011T200553Z
LAST-MODIFIED:20250714T152847Z
UID:1805-1731456000-1731542399@www.comic-con.org
SUMMARY:Museum Closed
DESCRIPTION:Summer Nights 2026: TTRPG Edition\n\n\n\n\nMuseum is closed on Wednesdays.
URL:https://www.comic-con.org/museum/event/museum-closed-2/
END:VEVENT
BEGIN:VEVENT
DTSTART;TZID=UTC:20241113T000000
DTEND;TZID=UTC:20241113T235959
DTSTAMP:20260420T204559
CREATED:20241011T200553Z
LAST-MODIFIED:20250714T152847Z
UID:1805-1731456000-1731542399@www.comic-con.org
SUMMARY:Museum Closed
DESCRIPTION:Summer Nights 2026: TTRPG Edition\n\n\n\n\nMuseum is closed on Wednesdays.
URL:https://www.comic-con.org/museum/event/museum-closed-2/
END:VEVENT
BEGIN:VEVENT
DTSTART;TZID=UTC:20250711T173000
DTEND;TZID=UTC:20250711T203000
DTSTAMP:20260420T204559
CREATED:20250530T153046Z
LAST-MODIFIED:20250711T225153Z
UID:2157-1752255000-1752265800@www.comic-con.org
SUMMARY:SUMMER NIGHTS
DESCRIPTION:Photo by: N. Ricoy © 2023 SDCC\n\n\n\n\n\nSUMMER NIGHTS\n\n\n\nONE NIGHT AT THE MUSEUM \n\n\n\n \n\n\n\nPLAY. LEARN. GEEK OUT! This summer\, Comic-Con Museum stays open late one Friday every month. \n\n\n\n\nPurchase Tickets\n\n\n\n\n\n\n\n\n\n\nSpend time at Comic-Con Museum after hours! Come explore all three levels of exhibits and enjoy food and drinks in the lobby (for purchase). Whether it’s your first visit or your 100th\, come experience something new at this special night-at-the-museum event.  \n\n\n\nRegular museum admission. Food and beverage available for purchase. Activities and prize drawings included. \n\n\n\nPhoto by: N. Ricoy © 2023 SDCC
URL:https://www.comic-con.org/museum/event/summer-nights-2/
END:VEVENT
BEGIN:VEVENT
DTSTART;TZID=UTC:20241113T000000
DTEND;TZID=UTC:20241113T235959
DTSTAMP:20260420T204559
CREATED:20241011T200553Z
LAST-MODIFIED:20250714T152847Z
UID:1805-1731456000-1731542399@www.comic-con.org
SUMMARY:Museum Closed
DESCRIPTION:Summer Nights 2026: TTRPG Edition\n\n\n\n\nMuseum is closed on Wednesdays.
URL:https://www.comic-con.org/museum/event/museum-closed-2/
END:VEVENT
BEGIN:VEVENT
DTSTART;TZID=UTC:20250719T130000
DTEND;TZID=UTC:20250719T140000
DTSTAMP:20260420T204559
CREATED:20250703T171813Z
LAST-MODIFIED:20250703T171816Z
UID:2204-1752930000-1752933600@www.comic-con.org
SUMMARY:Celebrating Luann at Comic-Con Museum
DESCRIPTION:Celebrating Luann at Comic-Con Museum\n\n\n\nJoin this special panel with Luann creator Greg Evans and Karen Evans\, the inspiration for the strip. \n\n\n\nJuly 19\, 2025 @1:00 – 2:00pm \n\n\n\n \n\n\n\n\nPurchase Tickets\n\n\n\n\n\n\n\n\nGo behind the scenes with Luann creator Greg Evans and his co-writer daughter Karen Evans as they reveal the messy\, amusing\, and sometimes complex collaborative process behind the beloved comic strip. From big-picture brainstorming to tweaking text and adjusting artwork\, they’ll share the actual drafts\, discards\, and decisions behind a week of Luann comics. 
URL:https://www.comic-con.org/museum/event/celebrating-luann-at-comic-con-museum/
END:VEVENT
BEGIN:VEVENT
DTSTART;TZID=UTC:20241113T000000
DTEND;TZID=UTC:20241113T235959
DTSTAMP:20260420T204559
CREATED:20241011T200553Z
LAST-MODIFIED:20250714T152847Z
UID:1805-1731456000-1731542399@www.comic-con.org
SUMMARY:Museum Closed
DESCRIPTION:Summer Nights 2026: TTRPG Edition\n\n\n\n\nMuseum is closed on Wednesdays.
URL:https://www.comic-con.org/museum/event/museum-closed-2/
END:VEVENT
END:VCALENDAR