BEGIN:VCALENDAR
VERSION:2.0
PRODID:-//Comic-Con Museum - ECPv6.15.14//NONSGML v1.0//EN
CALSCALE:GREGORIAN
METHOD:PUBLISH
X-ORIGINAL-URL:https://www.comic-con.org/museum
X-WR-CALDESC:Events for Comic-Con Museum
REFRESH-INTERVAL;VALUE=DURATION:PT1H
X-Robots-Tag:noindex
X-PUBLISHED-TTL:PT1H
BEGIN:VTIMEZONE
TZID:UTC
BEGIN:STANDARD
TZOFFSETFROM:+0000
TZOFFSETTO:+0000
TZNAME:UTC
DTSTART:20230101T000000
END:STANDARD
END:VTIMEZONE
BEGIN:VEVENT
DTSTART;TZID=UTC:20241113T000000
DTEND;TZID=UTC:20241113T235959
DTSTAMP:20260424T013802
CREATED:20241011T200553Z
LAST-MODIFIED:20250714T152847Z
UID:1805-1731456000-1731542399@www.comic-con.org
SUMMARY:Museum Closed
DESCRIPTION:Summer Nights 2026: TTRPG Edition\n\n\n\n\nMuseum is closed on Wednesdays.
URL:https://www.comic-con.org/museum/event/museum-closed-2/
END:VEVENT
BEGIN:VEVENT
DTSTART;TZID=UTC:20241113T000000
DTEND;TZID=UTC:20241113T235959
DTSTAMP:20260424T013802
CREATED:20241011T200553Z
LAST-MODIFIED:20250714T152847Z
UID:1805-1731456000-1731542399@www.comic-con.org
SUMMARY:Museum Closed
DESCRIPTION:Summer Nights 2026: TTRPG Edition\n\n\n\n\nMuseum is closed on Wednesdays.
URL:https://www.comic-con.org/museum/event/museum-closed-2/
END:VEVENT
BEGIN:VEVENT
DTSTART;TZID=UTC:20241126T080000
DTEND;TZID=UTC:20241126T170000
DTSTAMP:20260424T013802
CREATED:20241127T184505Z
LAST-MODIFIED:20241127T184549Z
UID:1882-1732608000-1732640400@www.comic-con.org
SUMMARY:
DESCRIPTION:Holiday Membership sale\n\n\n\nHoliday Membership sale \n\n\n\nGive a Passport to Fandom Adventure All Year Round! \n\n\n\nBlack Friday blowout—20% off (Fan—Hero only). In-person only at Comic-Con Museum. \n\n\n\nOnline through December 18\, 2024\, 15% off. \n\n\n\n\nHoliday Membership Sale Details\n\n\n\nBuy a Membership
URL:https://www.comic-con.org/museum/event/1882/
END:VEVENT
BEGIN:VEVENT
DTSTART;TZID=UTC:20241113T000000
DTEND;TZID=UTC:20241113T235959
DTSTAMP:20260424T013802
CREATED:20241011T200553Z
LAST-MODIFIED:20250714T152847Z
UID:1805-1731456000-1731542399@www.comic-con.org
SUMMARY:Museum Closed
DESCRIPTION:Summer Nights 2026: TTRPG Edition\n\n\n\n\nMuseum is closed on Wednesdays.
URL:https://www.comic-con.org/museum/event/museum-closed-2/
END:VEVENT
BEGIN:VEVENT
DTSTART;TZID=UTC:20241128T000000
DTEND;TZID=UTC:20241128T235959
DTSTAMP:20260424T013802
CREATED:20241113T194622Z
LAST-MODIFIED:20241113T200538Z
UID:1849-1732752000-1732838399@www.comic-con.org
SUMMARY:Museum Closed Thanksgiving Day
DESCRIPTION:Summer Nights 2026: TTRPG Edition\n\n\n\n\nThe Comic-Con Museum will be closed Thanksgiving day.
URL:https://www.comic-con.org/museum/event/thanksgiving-closure/
END:VEVENT
END:VCALENDAR